BEGIN:VCALENDAR
VERSION:2.0
PRODID:-//Plone.org//NONSGML plone.app.event//EN
X-WR-TIMEZONE:US/Central
BEGIN:VEVENT
SUMMARY:Adult Craft: Pressed Flower Lantern
DTSTART;TZID=US/Central:20250401T180000
DTEND;TZID=US/Central:20250401T190000
DTSTAMP:20260419T203009Z
UID:57b99976edbd41c4bf2d5c5122486b4f@saas_stack_varnish:6080
CREATED:20250317T211518Z
DESCRIPTION:🌸✨ Adult Craft Night at Ralls County Library \n\nJoin us 
 for a fun and creative evening where we’ll be making beautiful Pressed F
 lower Lanterns!  This is a great way to unwind and let your artistic side 
 shine.\n\n📅 Date: Tuesday April 1st\n🕕 Time:6pm\n📍 Location: Rall
 s County Library\n\nSpace is limited\, so be sure to RSVP to reserve your 
 spot!\nYou can sign up in person at the library or call us at 573-267-3200
 .\n\nWe can’t wait to see you there!  #RallsCountyLibrary #AdultCrafts
LAST-MODIFIED:20250317T211602Z
LOCATION:Ralls County Library
URL:https://www.rallscountylibrary.com/adult-craft-pressed-flower-lantern
END:VEVENT
BEGIN:VTIMEZONE
TZID:US/Central
X-LIC-LOCATION:US/Central
BEGIN:DAYLIGHT
DTSTART:20250309T030000
TZNAME:CDT
TZOFFSETFROM:-0600
TZOFFSETTO:-0500
END:DAYLIGHT
END:VTIMEZONE
END:VCALENDAR
