BEGIN:VCALENDAR
VERSION:2.0
PRODID:-//Plone.org//NONSGML plone.app.event//EN
X-WR-TIMEZONE:US/Central
BEGIN:VEVENT
SUMMARY:Story Hour
DTSTART;TZID=US/Central:20250515T100000
DTEND;TZID=US/Central:20250515T110000
DTSTAMP:20260421T085718Z
UID:b9aa240968434c01b0542d3bdcd61158@saas_stack_varnish:6080
CREATED:20250502T015334Z
LAST-MODIFIED:20250502T015351Z
LOCATION:Ralls County Library
URL:https://www.rallscountylibrary.com/calendar-news/events/story-hour-2/2
 025-05-15
END:VEVENT
BEGIN:VTIMEZONE
TZID:US/Central
X-LIC-LOCATION:US/Central
BEGIN:DAYLIGHT
DTSTART:20250309T030000
TZNAME:CDT
TZOFFSETFROM:-0600
TZOFFSETTO:-0500
END:DAYLIGHT
END:VTIMEZONE
END:VCALENDAR
