BEGIN:VCALENDAR
VERSION:2.0
PRODID:-//Plone.org//NONSGML plone.app.event//EN
X-WR-TIMEZONE:US/Central
BEGIN:VEVENT
SUMMARY:Ice Cream Craft Activity
DTSTART;TZID=US/Central:20250726T100000
DTEND;TZID=US/Central:20250726T110000
DTSTAMP:20260420T021651Z
UID:308c2da252e94265b75f8cb40639d3ed@saas_stack_varnish:6080
CREATED:20250707T030336Z
LAST-MODIFIED:20250707T030344Z
URL:https://www.rallscountylibrary.com/ice-cream-craft-activity
END:VEVENT
BEGIN:VTIMEZONE
TZID:US/Central
X-LIC-LOCATION:US/Central
BEGIN:DAYLIGHT
DTSTART:20250309T030000
TZNAME:CDT
TZOFFSETFROM:-0600
TZOFFSETTO:-0500
END:DAYLIGHT
END:VTIMEZONE
END:VCALENDAR
